BEGIN:VCALENDAR
VERSION:2.0
PRODID:-//CISV USA - ECPv6.15.20//NONSGML v1.0//EN
CALSCALE:GREGORIAN
METHOD:PUBLISH
X-WR-CALNAME:CISV USA
X-ORIGINAL-URL:https://cisvusa.org
X-WR-CALDESC:Events for CISV USA
REFRESH-INTERVAL;VALUE=DURATION:PT1H
X-Robots-Tag:noindex
X-PUBLISHED-TTL:PT1H
BEGIN:VTIMEZONE
TZID:America/New_York
BEGIN:DAYLIGHT
TZOFFSETFROM:-0500
TZOFFSETTO:-0400
TZNAME:EDT
DTSTART:20210314T070000
END:DAYLIGHT
BEGIN:STANDARD
TZOFFSETFROM:-0400
TZOFFSETTO:-0500
TZNAME:EST
DTSTART:20211107T060000
END:STANDARD
BEGIN:DAYLIGHT
TZOFFSETFROM:-0500
TZOFFSETTO:-0400
TZNAME:EDT
DTSTART:20220313T070000
END:DAYLIGHT
BEGIN:STANDARD
TZOFFSETFROM:-0400
TZOFFSETTO:-0500
TZNAME:EST
DTSTART:20221106T060000
END:STANDARD
BEGIN:DAYLIGHT
TZOFFSETFROM:-0500
TZOFFSETTO:-0400
TZNAME:EDT
DTSTART:20230312T070000
END:DAYLIGHT
BEGIN:STANDARD
TZOFFSETFROM:-0400
TZOFFSETTO:-0500
TZNAME:EST
DTSTART:20231105T060000
END:STANDARD
BEGIN:DAYLIGHT
TZOFFSETFROM:-0500
TZOFFSETTO:-0400
TZNAME:EDT
DTSTART:20240310T070000
END:DAYLIGHT
BEGIN:STANDARD
TZOFFSETFROM:-0400
TZOFFSETTO:-0500
TZNAME:EST
DTSTART:20241103T060000
END:STANDARD
BEGIN:DAYLIGHT
TZOFFSETFROM:-0500
TZOFFSETTO:-0400
TZNAME:EDT
DTSTART:20250309T070000
END:DAYLIGHT
BEGIN:STANDARD
TZOFFSETFROM:-0400
TZOFFSETTO:-0500
TZNAME:EST
DTSTART:20251102T060000
END:STANDARD
BEGIN:DAYLIGHT
TZOFFSETFROM:-0500
TZOFFSETTO:-0400
TZNAME:EDT
DTSTART:20260308T070000
END:DAYLIGHT
BEGIN:STANDARD
TZOFFSETFROM:-0400
TZOFFSETTO:-0500
TZNAME:EST
DTSTART:20261101T060000
END:STANDARD
END:VTIMEZONE
BEGIN:VEVENT
DTSTART;TZID=America/New_York:20250917T200000
DTEND;TZID=America/New_York:20250917T213000
DTSTAMP:20260421T000328
CREATED:20231117T225111Z
LAST-MODIFIED:20250806T212630Z
UID:10000022-1758139200-1758144600@cisvusa.org
SUMMARY:CISV USA Chapter Web Admin Training
DESCRIPTION:This training is geared towards new Chapter Web Administrators.  Attendees will learn the basics of updating their websites and the about the special constructs and features. \nPlease register to attend. \n  \nPhoto by Glenn Carstens-Peters on Unsplash \n  \n 
URL:https://cisvusa.org/event/cisv-chapter-web-admin-training-2/
ATTACH;FMTTYPE=image/jpeg:https://cisvusa.org/wp-content/uploads/2022/09/glenn-carstens-peters-npxXWgQ33ZQ-unsplash-scaled.jpg
ORGANIZER;CN="Janet Reynolds":MAILTO:janet.reynolds@msn.com
END:VEVENT
BEGIN:VEVENT
DTSTART;TZID=America/New_York:20230507T120000
DTEND;TZID=America/New_York:20230507T160000
DTSTAMP:20260421T000328
CREATED:20220306T003802Z
LAST-MODIFIED:20230310T185725Z
UID:10000009-1683460800-1683475200@cisvusa.org
SUMMARY:Training: Chapter Development Workshop - May 7
DESCRIPTION:This workshop is for adult Chapter Board Members\, in particular\, but not limited to\, those in the role of adult Board President or President Elect.  Each Chapter must have at least one participant go to one session.  The two sessions\, on 4/22 and 5/7\, are identical in content. \nPlease plan to use a PC for the Zoom session for the best experience. \nRegistration will be open until the the day before the workshop and is not limited in number.
URL:https://cisvusa.org/event/chapter-development-workshop-session2/
ATTACH;FMTTYPE=image/jpeg:https://cisvusa.org/wp-content/uploads/2022/03/295_Brandywine_YM_2019_shirt.jpg
ORGANIZER;CN="Janet Reynolds":MAILTO:janet.reynolds@msn.com
END:VEVENT
BEGIN:VEVENT
DTSTART;TZID=America/New_York:20221130T193000
DTEND;TZID=America/New_York:20221130T210000
DTSTAMP:20260421T000328
CREATED:20220919T204432Z
LAST-MODIFIED:20221114T182838Z
UID:10000010-1669836600-1669842000@cisvusa.org
SUMMARY:CISV Chapter Web Admin Training
DESCRIPTION:This training is geared towards new Chapter Web Admins.  Attendees will learn the basics of updating their websites and the about the special constructs and features. \nPlease register to attend. \n  \nPhoto by Glenn Carstens-Peters on Unsplash \n  \n 
URL:https://cisvusa.org/event/cisv-chapter-web-admin-training/
ATTACH;FMTTYPE=image/jpeg:https://cisvusa.org/wp-content/uploads/2022/09/glenn-carstens-peters-npxXWgQ33ZQ-unsplash-scaled.jpg
ORGANIZER;CN="Janet Reynolds":MAILTO:janet.reynolds@msn.com
END:VEVENT
END:VCALENDAR