BEGIN:VCALENDAR
VERSION:2.0
PRODID:-//CISV USA - ECPv6.15.20//NONSGML v1.0//EN
CALSCALE:GREGORIAN
METHOD:PUBLISH
X-WR-CALNAME:CISV USA
X-ORIGINAL-URL:https://cisvusa.org
X-WR-CALDESC:Events for CISV USA
REFRESH-INTERVAL;VALUE=DURATION:PT1H
X-Robots-Tag:noindex
X-PUBLISHED-TTL:PT1H
BEGIN:VTIMEZONE
TZID:America/New_York
BEGIN:DAYLIGHT
TZOFFSETFROM:-0500
TZOFFSETTO:-0400
TZNAME:EDT
DTSTART:20220313T070000
END:DAYLIGHT
BEGIN:STANDARD
TZOFFSETFROM:-0400
TZOFFSETTO:-0500
TZNAME:EST
DTSTART:20221106T060000
END:STANDARD
BEGIN:DAYLIGHT
TZOFFSETFROM:-0500
TZOFFSETTO:-0400
TZNAME:EDT
DTSTART:20230312T070000
END:DAYLIGHT
BEGIN:STANDARD
TZOFFSETFROM:-0400
TZOFFSETTO:-0500
TZNAME:EST
DTSTART:20231105T060000
END:STANDARD
BEGIN:DAYLIGHT
TZOFFSETFROM:-0500
TZOFFSETTO:-0400
TZNAME:EDT
DTSTART:20240310T070000
END:DAYLIGHT
BEGIN:STANDARD
TZOFFSETFROM:-0400
TZOFFSETTO:-0500
TZNAME:EST
DTSTART:20241103T060000
END:STANDARD
BEGIN:DAYLIGHT
TZOFFSETFROM:-0500
TZOFFSETTO:-0400
TZNAME:EDT
DTSTART:20250309T070000
END:DAYLIGHT
BEGIN:STANDARD
TZOFFSETFROM:-0400
TZOFFSETTO:-0500
TZNAME:EST
DTSTART:20251102T060000
END:STANDARD
BEGIN:DAYLIGHT
TZOFFSETFROM:-0500
TZOFFSETTO:-0400
TZNAME:EDT
DTSTART:20260308T070000
END:DAYLIGHT
BEGIN:STANDARD
TZOFFSETFROM:-0400
TZOFFSETTO:-0500
TZNAME:EST
DTSTART:20261101T060000
END:STANDARD
END:VTIMEZONE
BEGIN:VEVENT
DTSTART;TZID=America/New_York:20250607T100000
DTEND;TZID=America/New_York:20250608T140000
DTSTAMP:20260424T124133
CREATED:20250423T205143Z
LAST-MODIFIED:20250423T205436Z
UID:10000065-1749290400-1749391200@cisvusa.org
SUMMARY:Phase 1 Training (June 7-8)
DESCRIPTION:NOTE: THIS IS A 2-DAY TRAINING! YOU ONLY NEED TO REGISTER FOR THE FIRST DAY. \nSaturday\, June 7\, 10 AM to 4 PM EST \nSunday\, June 8\, 10 AM to 2 PM EST \nThis multi-day virtual training is required for all program directors\, staff and junior staff\, program leaders\, and junior counselors.  This training is an essential part of preparing you for your leadership roles and is a  prerequisite for National Leader Training. \nYou only need to register for the first day.  This will register you for both days of the training. \nAfter registration\, you will receive a confirmation email with detailed information about how to connect to the meeting. \n 
URL:https://cisvusa.org/event/phase-1-training-june-7-8/
ATTACH;FMTTYPE=image/jpeg:https://cisvusa.org/wp-content/uploads/2022/10/CincinnatiStepUpAdults_2023-scaled.jpg
ORGANIZER;CN="Gabby DeMarchi":MAILTO:demarchig138@gmail.com
END:VEVENT
BEGIN:VEVENT
DTSTART;TZID=America/New_York:20250518T110000
DTEND;TZID=America/New_York:20250518T150000
DTSTAMP:20260424T124133
CREATED:20250205T005424Z
LAST-MODIFIED:20250401T175859Z
UID:10000059-1747566000-1747580400@cisvusa.org
SUMMARY:Phase 1 Training (May 17-18)
DESCRIPTION:NOTE: THIS IS A 2-DAY TRAINING! YOU ONLY NEED TO REGISTER FOR THE FIRST DAY. \nThis multi-day virtual training is required for all program directors\, staff and junior staff\, program leaders\, and junior counselors.  This training is an essential part of preparing you for your leadership roles and is a  prerequisite for National Leader Training. \nYou only need to register for the first day.  This will register you for both days of the training. \nAfter registration\, you will receive a confirmation email with detailed information about how to connect to the meeting.
URL:https://cisvusa.org/event/phase-1-training-may-17-18/2025-05-18/
ATTACH;FMTTYPE=image/jpeg:https://cisvusa.org/wp-content/uploads/2022/10/CincinnatiStepUpAdults_2023-scaled.jpg
ORGANIZER;CN="Gabby DeMarchi":MAILTO:demarchig138@gmail.com
END:VEVENT
BEGIN:VEVENT
DTSTART;TZID=America/New_York:20250517T110000
DTEND;TZID=America/New_York:20250517T170000
DTSTAMP:20260424T124133
CREATED:20250205T005424Z
LAST-MODIFIED:20250401T175859Z
UID:10000058-1747479600-1747501200@cisvusa.org
SUMMARY:Phase 1 Training (May 17-18)
DESCRIPTION:NOTE: THIS IS A 2-DAY TRAINING! YOU ONLY NEED TO REGISTER FOR THE FIRST DAY. \nThis multi-day virtual training is required for all program directors\, staff and junior staff\, program leaders\, and junior counselors.  This training is an essential part of preparing you for your leadership roles and is a  prerequisite for National Leader Training. \nYou only need to register for the first day.  This will register you for both days of the training. \nAfter registration\, you will receive a confirmation email with detailed information about how to connect to the meeting.
URL:https://cisvusa.org/event/phase-1-training-may-17-18/2025-05-17/
ATTACH;FMTTYPE=image/jpeg:https://cisvusa.org/wp-content/uploads/2022/10/CincinnatiStepUpAdults_2023-scaled.jpg
ORGANIZER;CN="Gabby DeMarchi":MAILTO:demarchig138@gmail.com
END:VEVENT
BEGIN:VEVENT
DTSTART;TZID=America/New_York:20250504T100000
DTEND;TZID=America/New_York:20250504T140000
DTSTAMP:20260424T124133
CREATED:20250205T005252Z
LAST-MODIFIED:20250401T180009Z
UID:10000055-1746352800-1746367200@cisvusa.org
SUMMARY:Phase 1 Training (May 3-4)
DESCRIPTION:NOTE: THIS IS A 2-DAY TRAINING! YOU ONLY NEED TO REGISTER FOR THE FIRST DAY. \nThis multi-day virtual training is required for all program directors\, staff and junior staff\, program leaders\, and junior counselors.  This training is an essential part of preparing you for your leadership roles and is a  prerequisite for National Leader Training. \nYou only need to register for the first day.  This will register you for both days of the training. \nAfter registration\, you will receive a confirmation email with detailed information about how to connect to the meeting.
URL:https://cisvusa.org/event/phase-1-training-may-3-4/2025-05-04/
ATTACH;FMTTYPE=image/jpeg:https://cisvusa.org/wp-content/uploads/2022/10/CincinnatiStepUpAdults_2023-scaled.jpg
ORGANIZER;CN="Gabby DeMarchi":MAILTO:demarchig138@gmail.com
END:VEVENT
BEGIN:VEVENT
DTSTART;TZID=America/New_York:20250503T100000
DTEND;TZID=America/New_York:20250503T160000
DTSTAMP:20260424T124133
CREATED:20250205T005252Z
LAST-MODIFIED:20250401T180009Z
UID:10000054-1746266400-1746288000@cisvusa.org
SUMMARY:Phase 1 Training (May 3-4)
DESCRIPTION:NOTE: THIS IS A 2-DAY TRAINING! YOU ONLY NEED TO REGISTER FOR THE FIRST DAY. \nThis multi-day virtual training is required for all program directors\, staff and junior staff\, program leaders\, and junior counselors.  This training is an essential part of preparing you for your leadership roles and is a  prerequisite for National Leader Training. \nYou only need to register for the first day.  This will register you for both days of the training. \nAfter registration\, you will receive a confirmation email with detailed information about how to connect to the meeting.
URL:https://cisvusa.org/event/phase-1-training-may-3-4/2025-05-03/
ATTACH;FMTTYPE=image/jpeg:https://cisvusa.org/wp-content/uploads/2022/10/CincinnatiStepUpAdults_2023-scaled.jpg
ORGANIZER;CN="Gabby DeMarchi":MAILTO:demarchig138@gmail.com
END:VEVENT
BEGIN:VEVENT
DTSTART;TZID=America/New_York:20250413T110000
DTEND;TZID=America/New_York:20250413T150000
DTSTAMP:20260424T124133
CREATED:20250205T004841Z
LAST-MODIFIED:20250410T014801Z
UID:10000051-1744542000-1744556400@cisvusa.org
SUMMARY:Phase 1 Training (April 12-13)
DESCRIPTION:NOTE: THIS IS A 2-DAY TRAINING! YOU ONLY NEED TO REGISTER FOR THE FIRST DAY. \nThis multi-day virtual training is required for all program directors\, staff and junior staff\, program leaders\, and junior counselors.  This training is an essential part of preparing you for your leadership roles and is a  prerequisite for National Leader Training. \nYou only need to register for the first day.  This will register you for both days of the training. \nAfter registration\, you will receive a confirmation email with detailed information about how to connect to the meeting.
URL:https://cisvusa.org/event/phase-1-training-april-12-13/2025-04-13/
ATTACH;FMTTYPE=image/jpeg:https://cisvusa.org/wp-content/uploads/2022/10/CincinnatiStepUpAdults_2023-scaled.jpg
ORGANIZER;CN="Gabby DeMarchi":MAILTO:demarchig138@gmail.com
END:VEVENT
BEGIN:VEVENT
DTSTART;TZID=America/New_York:20250412T110000
DTEND;TZID=America/New_York:20250412T170000
DTSTAMP:20260424T124133
CREATED:20250205T004841Z
LAST-MODIFIED:20250410T014801Z
UID:10000050-1744455600-1744477200@cisvusa.org
SUMMARY:Phase 1 Training (April 12-13)
DESCRIPTION:NOTE: THIS IS A 2-DAY TRAINING! YOU ONLY NEED TO REGISTER FOR THE FIRST DAY. \nThis multi-day virtual training is required for all program directors\, staff and junior staff\, program leaders\, and junior counselors.  This training is an essential part of preparing you for your leadership roles and is a  prerequisite for National Leader Training. \nYou only need to register for the first day.  This will register you for both days of the training. \nAfter registration\, you will receive a confirmation email with detailed information about how to connect to the meeting.
URL:https://cisvusa.org/event/phase-1-training-april-12-13/2025-04-12/
ATTACH;FMTTYPE=image/jpeg:https://cisvusa.org/wp-content/uploads/2022/10/CincinnatiStepUpAdults_2023-scaled.jpg
ORGANIZER;CN="Gabby DeMarchi":MAILTO:demarchig138@gmail.com
END:VEVENT
BEGIN:VEVENT
DTSTART;TZID=America/New_York:20250406T100000
DTEND;TZID=America/New_York:20250406T140000
DTSTAMP:20260424T124133
CREATED:20250205T004636Z
LAST-MODIFIED:20250401T191708Z
UID:10000047-1743933600-1743948000@cisvusa.org
SUMMARY:Phase 1 Training (April 5-6)
DESCRIPTION:NOTE: THIS IS A 2-DAY TRAINING! YOU ONLY NEED TO REGISTER FOR THE FIRST DAY. \nThis multi-day virtual training is required for all program directors\, staff and junior staff\, program leaders\, and junior counselors.  This training is an essential part of preparing you for your leadership roles and is a  prerequisite for National Leader Training. \nYou only need to register for the first day.  This will register you for both days of the training. \nAfter registration\, you will receive a confirmation email with detailed information about how to connect to the meeting.
URL:https://cisvusa.org/event/phase-1-training-april-5-6/2025-04-06/
ATTACH;FMTTYPE=image/jpeg:https://cisvusa.org/wp-content/uploads/2022/10/CincinnatiStepUpAdults_2023-scaled.jpg
ORGANIZER;CN="Gabby DeMarchi":MAILTO:demarchig138@gmail.com
END:VEVENT
BEGIN:VEVENT
DTSTART;TZID=America/New_York:20250405T100000
DTEND;TZID=America/New_York:20250405T160000
DTSTAMP:20260424T124134
CREATED:20250205T004636Z
LAST-MODIFIED:20250401T191708Z
UID:10000046-1743847200-1743868800@cisvusa.org
SUMMARY:Phase 1 Training (April 5-6)
DESCRIPTION:NOTE: THIS IS A 2-DAY TRAINING! YOU ONLY NEED TO REGISTER FOR THE FIRST DAY. \nThis multi-day virtual training is required for all program directors\, staff and junior staff\, program leaders\, and junior counselors.  This training is an essential part of preparing you for your leadership roles and is a  prerequisite for National Leader Training. \nYou only need to register for the first day.  This will register you for both days of the training. \nAfter registration\, you will receive a confirmation email with detailed information about how to connect to the meeting.
URL:https://cisvusa.org/event/phase-1-training-april-5-6/2025-04-05/
ATTACH;FMTTYPE=image/jpeg:https://cisvusa.org/wp-content/uploads/2022/10/CincinnatiStepUpAdults_2023-scaled.jpg
ORGANIZER;CN="Gabby DeMarchi":MAILTO:demarchig138@gmail.com
END:VEVENT
BEGIN:VEVENT
DTSTART;TZID=America/New_York:20250309T110000
DTEND;TZID=America/New_York:20250309T150000
DTSTAMP:20260424T124134
CREATED:20250306T215352Z
LAST-MODIFIED:20250306T215353Z
UID:10000043-1741518000-1741532400@cisvusa.org
SUMMARY:Phase 1 Training (March 8-9)
DESCRIPTION:NOTE: THIS IS A 2-DAY TRAINING! YOU ONLY NEED TO REGISTER FOR THE FIRST DAY. \nThis multi-day virtual training is required for all program directors\, staff and junior staff\, program leaders\, and junior counselors.  This training is an essential part of preparing you for your leadership roles and is a  prerequisite for National Leader Training. \nYou only need to register for the first day.  This will register you for both days of the training. \nAfter registration\, you will receive a confirmation email with detailed information about how to connect to the meeting.
URL:https://cisvusa.org/event/phase-1-training-march-8-9-3/
ATTACH;FMTTYPE=image/jpeg:https://cisvusa.org/wp-content/uploads/2022/10/CincinnatiStepUpAdults_2023-scaled.jpg
ORGANIZER;CN="Gabby DeMarchi":MAILTO:demarchig138@gmail.com
END:VEVENT
BEGIN:VEVENT
DTSTART;TZID=America/New_York:20250308T110000
DTEND;TZID=America/New_York:20250308T170000
DTSTAMP:20260424T124134
CREATED:20250226T185912Z
LAST-MODIFIED:20250306T215217Z
UID:10000042-1741431600-1741453200@cisvusa.org
SUMMARY:Phase 1 Training (March 8-9)
DESCRIPTION:NOTE: THIS IS A 2-DAY TRAINING! YOU ONLY NEED TO REGISTER FOR THE FIRST DAY. \nThis multi-day virtual training is required for all program directors\, staff and junior staff\, program leaders\, and junior counselors.  This training is an essential part of preparing you for your leadership roles and is a  prerequisite for National Leader Training. \nYou only need to register for the first day.  This will register you for both days of the training. \nAfter registration\, you will receive a confirmation email with detailed information about how to connect to the meeting.
URL:https://cisvusa.org/event/phase-1-training-march-8-9-2/
ATTACH;FMTTYPE=image/jpeg:https://cisvusa.org/wp-content/uploads/2022/10/CincinnatiStepUpAdults_2023-scaled.jpg
ORGANIZER;CN="Gabby DeMarchi":MAILTO:demarchig138@gmail.com
END:VEVENT
BEGIN:VEVENT
DTSTART;TZID=America/New_York:20250302T100000
DTEND;TZID=America/New_York:20250302T140000
DTSTAMP:20260424T124134
CREATED:20250131T182148Z
LAST-MODIFIED:20250205T003622Z
UID:10000037-1740909600-1740924000@cisvusa.org
SUMMARY:Phase 1 Training (March 1-2)
DESCRIPTION:NOTE: THIS IS A 2-DAY TRAINING! YOU ONLY NEED TO REGISTER FOR THE FIRST DAY. \nThis multi-day virtual training is required for all program directors\, staff and junior staff\, program leaders\, and junior counselors.  This training is an essential part of preparing you for your leadership roles and is a  prerequisite for National Leader Training. \nYou only need to register for the first day.  This will register you for both days of the training. \nAfter registration\, you will receive a confirmation email with detailed information about how to connect to the meeting.
URL:https://cisvusa.org/event/phase-one-training-1/2025-03-02/
ATTACH;FMTTYPE=image/jpeg:https://cisvusa.org/wp-content/uploads/2022/10/CincinnatiStepUpAdults_2023-scaled.jpg
ORGANIZER;CN="Gabby DeMarchi":MAILTO:demarchig138@gmail.com
END:VEVENT
BEGIN:VEVENT
DTSTART;TZID=America/New_York:20250301T100000
DTEND;TZID=America/New_York:20250301T160000
DTSTAMP:20260424T124134
CREATED:20250225T181926Z
LAST-MODIFIED:20250225T182858Z
UID:10000036-1740823200-1740844800@cisvusa.org
SUMMARY:Phase 1 Training (March 1-2)
DESCRIPTION:NOTE: THIS IS A 2-DAY TRAINING! YOU ONLY NEED TO REGISTER FOR THE FIRST DAY. \nThis multi-day virtual training is required for all program directors\, staff and junior staff\, program leaders\, and junior counselors.  This training is an essential part of preparing you for your leadership roles and is a  prerequisite for National Leader Training. \nYou only need to register for the first day.  This will register you for both days of the training. \nAfter registration\, you will receive a confirmation email with detailed information about how to connect to the meeting.
URL:https://cisvusa.org/event/phase-one-training-1-2/
ATTACH;FMTTYPE=image/jpeg:https://cisvusa.org/wp-content/uploads/2022/10/CincinnatiStepUpAdults_2023-scaled.jpg
ORGANIZER;CN="Gabby DeMarchi":MAILTO:demarchig138@gmail.com
END:VEVENT
BEGIN:VEVENT
DTSTART;TZID=America/New_York:20240204T100000
DTEND;TZID=America/New_York:20240204T130000
DTSTAMP:20260424T124134
CREATED:20230927T211828Z
LAST-MODIFIED:20230927T211828Z
UID:10000020-1707040800-1707051600@cisvusa.org
SUMMARY:LLT Training Session #2
DESCRIPTION:Register for Local Leader Training here.  This is a virtual training over two days. \n\nSaturday\, Feb 3\, 2024\, from 10 am – 4 pm EST\nSunday\, Feb 4\, 2024\, from 10 am – 1 pm EST\n\nYour confirmation email will have links to the meetings on both days. \nYou do not need to register for both days – if you register for one\, it will be assumed that you are registering for both.
URL:https://cisvusa.org/event/llt-training-session-2/2024-02-04/
ATTACH;FMTTYPE=image/jpeg:https://cisvusa.org/wp-content/uploads/2018/10/unnamed-8.jpg
ORGANIZER;CN="Gabby DeMarchi":MAILTO:demarchig138@gmail.com
END:VEVENT
BEGIN:VEVENT
DTSTART;TZID=America/New_York:20240203T100000
DTEND;TZID=America/New_York:20240203T160000
DTSTAMP:20260424T124134
CREATED:20230927T211828Z
LAST-MODIFIED:20230927T211828Z
UID:10000019-1706954400-1706976000@cisvusa.org
SUMMARY:LLT Training Session #2
DESCRIPTION:Register for Local Leader Training here.  This is a virtual training over two days. \n\nSaturday\, Feb 3\, 2024\, from 10 am – 4 pm EST\nSunday\, Feb 4\, 2024\, from 10 am – 1 pm EST\n\nYour confirmation email will have links to the meetings on both days. \nYou do not need to register for both days – if you register for one\, it will be assumed that you are registering for both.
URL:https://cisvusa.org/event/llt-training-session-2/2024-02-03/
ATTACH;FMTTYPE=image/jpeg:https://cisvusa.org/wp-content/uploads/2018/10/unnamed-8.jpg
ORGANIZER;CN="Gabby DeMarchi":MAILTO:demarchig138@gmail.com
END:VEVENT
BEGIN:VEVENT
DTSTART;TZID=America/New_York:20240121T100000
DTEND;TZID=America/New_York:20240121T130000
DTSTAMP:20260424T124134
CREATED:20230927T210754Z
LAST-MODIFIED:20230927T210754Z
UID:10000016-1705831200-1705842000@cisvusa.org
SUMMARY:LLT Training Session #1
DESCRIPTION:Register for Local Leader Training here.  This is a virtual training over two days. \n\nSaturday\, Jan 20\, 2024 from 10 am – 4 pm EST\nSunday\, Jan 21\, 2024 from 10 am – 1 pm EST\n\nYour confirmation email will have links to the meetings on both days. \nYou do not need to register for both days – if you register for one\, it will be assumed that you are registering for both.
URL:https://cisvusa.org/event/llt-training-session-1/2024-01-21/
ATTACH;FMTTYPE=image/jpeg:https://cisvusa.org/wp-content/uploads/2018/10/unnamed-8.jpg
ORGANIZER;CN="Gabby DeMarchi":MAILTO:demarchig138@gmail.com
END:VEVENT
BEGIN:VEVENT
DTSTART;TZID=America/New_York:20240120T100000
DTEND;TZID=America/New_York:20240120T160000
DTSTAMP:20260424T124134
CREATED:20230927T210754Z
LAST-MODIFIED:20230927T210754Z
UID:10000015-1705744800-1705766400@cisvusa.org
SUMMARY:LLT Training Session #1
DESCRIPTION:Register for Local Leader Training here.  This is a virtual training over two days. \n\nSaturday\, Jan 20\, 2024 from 10 am – 4 pm EST\nSunday\, Jan 21\, 2024 from 10 am – 1 pm EST\n\nYour confirmation email will have links to the meetings on both days. \nYou do not need to register for both days – if you register for one\, it will be assumed that you are registering for both.
URL:https://cisvusa.org/event/llt-training-session-1/2024-01-20/
ATTACH;FMTTYPE=image/jpeg:https://cisvusa.org/wp-content/uploads/2018/10/unnamed-8.jpg
ORGANIZER;CN="Gabby DeMarchi":MAILTO:demarchig138@gmail.com
END:VEVENT
BEGIN:VEVENT
DTSTART;TZID=America/New_York:20230305T100000
DTEND;TZID=America/New_York:20230305T140000
DTSTAMP:20260424T124134
CREATED:20210922T172058Z
LAST-MODIFIED:20230125T182358Z
UID:10000006-1678010400-1678024800@cisvusa.org
SUMMARY:LLT Training
DESCRIPTION:Register for Local Leader Training here.  This is a virtual training over two days. \n\nSaturday\, March 4\, 10 am – 4 pm\nSunday\, March 5\, 10 am – 2 pm\n\nYour confirmation email will have links to the meetings on both days. \nYou do not need to register for both days – if you register for one\, it will be assumed that you are registering for both.
URL:https://cisvusa.org/event/llt-training/2023-03-05/
ATTACH;FMTTYPE=image/jpeg:https://cisvusa.org/wp-content/uploads/2018/10/unnamed-8.jpg
ORGANIZER;CN="Gabby DeMarchi":MAILTO:demarchig138@gmail.com
END:VEVENT
BEGIN:VEVENT
DTSTART;TZID=America/New_York:20230304T100000
DTEND;TZID=America/New_York:20230304T140000
DTSTAMP:20260424T124134
CREATED:20210922T172058Z
LAST-MODIFIED:20230125T182358Z
UID:10000005-1677924000-1677938400@cisvusa.org
SUMMARY:LLT Training
DESCRIPTION:Register for Local Leader Training here.  This is a virtual training over two days. \n\nSaturday\, March 4\, 10 am – 4 pm\nSunday\, March 5\, 10 am – 2 pm\n\nYour confirmation email will have links to the meetings on both days. \nYou do not need to register for both days – if you register for one\, it will be assumed that you are registering for both.
URL:https://cisvusa.org/event/llt-training/2023-03-04/
ATTACH;FMTTYPE=image/jpeg:https://cisvusa.org/wp-content/uploads/2018/10/unnamed-8.jpg
ORGANIZER;CN="Gabby DeMarchi":MAILTO:demarchig138@gmail.com
END:VEVENT
END:VCALENDAR