BEGIN:VCALENDAR
VERSION:2.0
PRODID:-//CISV USA - ECPv6.15.20//NONSGML v1.0//EN
CALSCALE:GREGORIAN
METHOD:PUBLISH
X-WR-CALNAME:CISV USA
X-ORIGINAL-URL:https://cisvusa.org
X-WR-CALDESC:Events for CISV USA
REFRESH-INTERVAL;VALUE=DURATION:PT1H
X-Robots-Tag:noindex
X-PUBLISHED-TTL:PT1H
BEGIN:VTIMEZONE
TZID:America/New_York
BEGIN:DAYLIGHT
TZOFFSETFROM:-0500
TZOFFSETTO:-0400
TZNAME:EDT
DTSTART:20240310T070000
END:DAYLIGHT
BEGIN:STANDARD
TZOFFSETFROM:-0400
TZOFFSETTO:-0500
TZNAME:EST
DTSTART:20241103T060000
END:STANDARD
BEGIN:DAYLIGHT
TZOFFSETFROM:-0500
TZOFFSETTO:-0400
TZNAME:EDT
DTSTART:20250309T070000
END:DAYLIGHT
BEGIN:STANDARD
TZOFFSETFROM:-0400
TZOFFSETTO:-0500
TZNAME:EST
DTSTART:20251102T060000
END:STANDARD
BEGIN:DAYLIGHT
TZOFFSETFROM:-0500
TZOFFSETTO:-0400
TZNAME:EDT
DTSTART:20260308T070000
END:DAYLIGHT
BEGIN:STANDARD
TZOFFSETFROM:-0400
TZOFFSETTO:-0500
TZNAME:EST
DTSTART:20261101T060000
END:STANDARD
END:VTIMEZONE
BEGIN:VEVENT
DTSTART;TZID=America/New_York:20250405T100000
DTEND;TZID=America/New_York:20250405T160000
DTSTAMP:20260422T223946
CREATED:20250205T004636Z
LAST-MODIFIED:20250401T191708Z
UID:10000046-1743847200-1743868800@cisvusa.org
SUMMARY:Phase 1 Training (April 5-6)
DESCRIPTION:NOTE: THIS IS A 2-DAY TRAINING! YOU ONLY NEED TO REGISTER FOR THE FIRST DAY. \nThis multi-day virtual training is required for all program directors\, staff and junior staff\, program leaders\, and junior counselors.  This training is an essential part of preparing you for your leadership roles and is a  prerequisite for National Leader Training. \nYou only need to register for the first day.  This will register you for both days of the training. \nAfter registration\, you will receive a confirmation email with detailed information about how to connect to the meeting.
URL:https://cisvusa.org/event/phase-1-training-april-5-6/2025-04-05/
ATTACH;FMTTYPE=image/jpeg:https://cisvusa.org/wp-content/uploads/2022/10/CincinnatiStepUpAdults_2023-scaled.jpg
ORGANIZER;CN="Gabby DeMarchi":MAILTO:demarchig138@gmail.com
END:VEVENT
BEGIN:VEVENT
DTSTART;TZID=America/New_York:20250406T100000
DTEND;TZID=America/New_York:20250406T140000
DTSTAMP:20260422T223946
CREATED:20250205T004636Z
LAST-MODIFIED:20250401T191708Z
UID:10000047-1743933600-1743948000@cisvusa.org
SUMMARY:Phase 1 Training (April 5-6)
DESCRIPTION:NOTE: THIS IS A 2-DAY TRAINING! YOU ONLY NEED TO REGISTER FOR THE FIRST DAY. \nThis multi-day virtual training is required for all program directors\, staff and junior staff\, program leaders\, and junior counselors.  This training is an essential part of preparing you for your leadership roles and is a  prerequisite for National Leader Training. \nYou only need to register for the first day.  This will register you for both days of the training. \nAfter registration\, you will receive a confirmation email with detailed information about how to connect to the meeting.
URL:https://cisvusa.org/event/phase-1-training-april-5-6/2025-04-06/
ATTACH;FMTTYPE=image/jpeg:https://cisvusa.org/wp-content/uploads/2022/10/CincinnatiStepUpAdults_2023-scaled.jpg
ORGANIZER;CN="Gabby DeMarchi":MAILTO:demarchig138@gmail.com
END:VEVENT
END:VCALENDAR