BEGIN:VCALENDAR
VERSION:2.0
PRODID:-//CISV USA - ECPv6.15.20//NONSGML v1.0//EN
CALSCALE:GREGORIAN
METHOD:PUBLISH
X-WR-CALNAME:CISV USA
X-ORIGINAL-URL:https://cisvusa.org
X-WR-CALDESC:Events for CISV USA
REFRESH-INTERVAL;VALUE=DURATION:PT1H
X-Robots-Tag:noindex
X-PUBLISHED-TTL:PT1H
BEGIN:VTIMEZONE
TZID:America/New_York
BEGIN:DAYLIGHT
TZOFFSETFROM:-0500
TZOFFSETTO:-0400
TZNAME:EDT
DTSTART:20230312T070000
END:DAYLIGHT
BEGIN:STANDARD
TZOFFSETFROM:-0400
TZOFFSETTO:-0500
TZNAME:EST
DTSTART:20231105T060000
END:STANDARD
BEGIN:DAYLIGHT
TZOFFSETFROM:-0500
TZOFFSETTO:-0400
TZNAME:EDT
DTSTART:20240310T070000
END:DAYLIGHT
BEGIN:STANDARD
TZOFFSETFROM:-0400
TZOFFSETTO:-0500
TZNAME:EST
DTSTART:20241103T060000
END:STANDARD
BEGIN:DAYLIGHT
TZOFFSETFROM:-0500
TZOFFSETTO:-0400
TZNAME:EDT
DTSTART:20250309T070000
END:DAYLIGHT
BEGIN:STANDARD
TZOFFSETFROM:-0400
TZOFFSETTO:-0500
TZNAME:EST
DTSTART:20251102T060000
END:STANDARD
END:VTIMEZONE
BEGIN:VEVENT
DTSTART;TZID=America/New_York:20240203T100000
DTEND;TZID=America/New_York:20240203T160000
DTSTAMP:20260422T222512
CREATED:20230927T211828Z
LAST-MODIFIED:20230927T211828Z
UID:10000019-1706954400-1706976000@cisvusa.org
SUMMARY:LLT Training Session #2
DESCRIPTION:Register for Local Leader Training here.  This is a virtual training over two days. \n\nSaturday\, Feb 3\, 2024\, from 10 am – 4 pm EST\nSunday\, Feb 4\, 2024\, from 10 am – 1 pm EST\n\nYour confirmation email will have links to the meetings on both days. \nYou do not need to register for both days – if you register for one\, it will be assumed that you are registering for both.
URL:https://cisvusa.org/event/llt-training-session-2/2024-02-03/
ATTACH;FMTTYPE=image/jpeg:https://cisvusa.org/wp-content/uploads/2018/10/unnamed-8.jpg
ORGANIZER;CN="Gabby DeMarchi":MAILTO:demarchig138@gmail.com
END:VEVENT
BEGIN:VEVENT
DTSTART;TZID=America/New_York:20240204T100000
DTEND;TZID=America/New_York:20240204T130000
DTSTAMP:20260422T222512
CREATED:20230927T211828Z
LAST-MODIFIED:20230927T211828Z
UID:10000020-1707040800-1707051600@cisvusa.org
SUMMARY:LLT Training Session #2
DESCRIPTION:Register for Local Leader Training here.  This is a virtual training over two days. \n\nSaturday\, Feb 3\, 2024\, from 10 am – 4 pm EST\nSunday\, Feb 4\, 2024\, from 10 am – 1 pm EST\n\nYour confirmation email will have links to the meetings on both days. \nYou do not need to register for both days – if you register for one\, it will be assumed that you are registering for both.
URL:https://cisvusa.org/event/llt-training-session-2/2024-02-04/
ATTACH;FMTTYPE=image/jpeg:https://cisvusa.org/wp-content/uploads/2018/10/unnamed-8.jpg
ORGANIZER;CN="Gabby DeMarchi":MAILTO:demarchig138@gmail.com
END:VEVENT
BEGIN:VEVENT
DTSTART;TZID=America/New_York:20240426T200000
DTEND;TZID=America/New_York:20240426T213000
DTSTAMP:20260422T222512
CREATED:20240215T171359Z
LAST-MODIFIED:20240405T200732Z
UID:10000030-1714161600-1714167000@cisvusa.org
SUMMARY:Seminar Camp Virtual Training
DESCRIPTION:Virtual Seminar Camp training sessions will be held on two dates. Choose either April 26 and May 17\, 8pm – 9:30 pm\, Eastern Time.  Registration is required. \nRegister for one of them here. \nYou will be sent the Zoom link in the Registration Confirmation email.
URL:https://cisvusa.org/event/seminar-camp-virtual-training/2024-04-26/
ATTACH;FMTTYPE=image/jpeg:https://cisvusa.org/wp-content/uploads/2023/02/Seminar-Camp-Twisting-Game-Sweden-2002-Photo-by-Jesper-Karlqvist-CISV.jpg
END:VEVENT
BEGIN:VEVENT
DTSTART;TZID=America/New_York:20240506T200000
DTEND;TZID=America/New_York:20240506T213000
DTSTAMP:20260422T222512
CREATED:20240405T201429Z
LAST-MODIFIED:20240405T201449Z
UID:10000026-1715025600-1715031000@cisvusa.org
SUMMARY:Training: Chapter Development Workshop Series (New President's Survival Guide)
DESCRIPTION:This year\, the Chapter Development Workshop will be conducted as a series.  This training series is targeted to chapter board leadership\, in particular your President Elect for the 2024/2025 year.  It is mandatory for each chapter to have representation at each session.  Please Register for each session you plan to attend.  \nThis series has 4 sessions: \n\nSession #1 (Monday\, May 6\, 8 pm ET\, 90 minutes):  New President’s Survival Guide; facilitated by Janet Reynolds and Tait Anberg\nSession #2 (Thursday\, May 9\, 8 pm ET\, 90 minutes): Running a Board Retreat/Visioning for your chapter; facilitated by Tait Anberg and Rita Hussung\nSession #3 (Monday \, May 13\, 8 pm ET\, 60 minutes ): Where O’ where are my Resources?!;  facilitated by Janet Reynolds\nSession #4 (Thursday\, May 16\, 8 pm ET\, 60 minutes):  Deep dive on Chapter Challenges – Pick a Virtual Room.  Recruiting (Rita’s Room);  Fundraising (Janet’s Room); PR & Communications (Tait’s Room)\n\nThis is best experienced on a PC.  If you miss a session\, they will be recorded and made available after the series is complete.  You must be registered to receive a link to the recordings.
URL:https://cisvusa.org/event/training-chapter-development-workshop-series-2-2/
ATTACH;FMTTYPE=image/jpeg:https://cisvusa.org/wp-content/uploads/2020/01/piano4color-scaled.jpg
ORGANIZER;CN="Janet Reynolds":MAILTO:janet.reynolds@cisvusa.org
END:VEVENT
BEGIN:VEVENT
DTSTART;TZID=America/New_York:20240509T200000
DTEND;TZID=America/New_York:20240509T213000
DTSTAMP:20260422T222512
CREATED:20240405T201556Z
LAST-MODIFIED:20240405T201652Z
UID:10000027-1715284800-1715290200@cisvusa.org
SUMMARY:Training: Chapter Development Workshop Series (Running a Board Retreat/Visioning for your chapter)
DESCRIPTION:This year\, the Chapter Development Workshop will be conducted as a series.  This training series is targeted to chapter board leadership\, in particular your President Elect for the 2024/2025 year.  It is mandatory for each chapter to have representation at each session.  Please Register for each session you plan to attend.  \n\nSession #2 (Thursday\, May 9\, 8 pm ET\, 90 minutes): Running a Board Retreat/Visioning for your chapter; facilitated by Tait Anberg and Rita Hussung\n\nThis is best experienced on a PC.  If you miss a session\, they will be recorded and made available after the series is complete.  You must be registered to receive a link to the recordings.
URL:https://cisvusa.org/event/training-chapter-development-workshop-series-2-3/
ATTACH;FMTTYPE=image/jpeg:https://cisvusa.org/wp-content/uploads/2020/01/piano4color-scaled.jpg
ORGANIZER;CN="Janet Reynolds":MAILTO:janet.reynolds@cisvusa.org
END:VEVENT
BEGIN:VEVENT
DTSTART;TZID=America/New_York:20240513T200000
DTEND;TZID=America/New_York:20240513T210000
DTSTAMP:20260422T222512
CREATED:20240405T201704Z
LAST-MODIFIED:20240405T201749Z
UID:10000028-1715630400-1715634000@cisvusa.org
SUMMARY:Training: Chapter Development Workshop Series (Where O' where are my Resources?!)
DESCRIPTION:This year\, the Chapter Development Workshop will be conducted as a series.  This training series is targeted to chapter board leadership\, in particular your President Elect for the 2024/2025 year.  It is mandatory for each chapter to have representation at each session.  Please Register for each session you plan to attend.  \n  \n\nSession #3 (Monday \, May 13\, 8 pm ET\, 60 minutes ): Where O’ where are my Resources?!;  facilitated by Janet Reynolds\n\nailable after the series is complete.  You must be registered to receive a link to the recordings.
URL:https://cisvusa.org/event/training-chapter-development-workshop-series-2-4/
ATTACH;FMTTYPE=image/jpeg:https://cisvusa.org/wp-content/uploads/2020/01/piano4color-scaled.jpg
ORGANIZER;CN="Janet Reynolds":MAILTO:janet.reynolds@cisvusa.org
END:VEVENT
BEGIN:VEVENT
DTSTART;TZID=America/New_York:20240516T200000
DTEND;TZID=America/New_York:20240516T203000
DTSTAMP:20260422T222512
CREATED:20240405T201756Z
LAST-MODIFIED:20240515T164013Z
UID:10000029-1715889600-1715891400@cisvusa.org
SUMMARY:Training: Chapter Development Workshop Series (Deep dive on Chapter Challenges)
DESCRIPTION:This year\, the Chapter Development Workshop will be conducted as a series.  This training series is targeted to chapter board leadership\, in particular your President Elect for the 2024/2025 year.  It is mandatory for each chapter to have representation at each session.  Please Register for each session you plan to attend.  \n\nSession #4 (Thursday\, May 16\, 8 pm ET\, 60 minutes):  Deep dive on Chapter Challenges – Pick a Virtual Room.  Recruiting (Rita’s Room);  Fundraising (Janet’s Room); PR & Communications (Tait’s Room)\n\nThis is best experienced on a PC.  If you miss a session\, they will be recorded and made available after the series is complete.  You must be registered to receive a link to the recordings.
URL:https://cisvusa.org/event/training-chapter-development-workshop-series-2-5/
ATTACH;FMTTYPE=image/jpeg:https://cisvusa.org/wp-content/uploads/2020/01/piano4color-scaled.jpg
ORGANIZER;CN="Janet Reynolds":MAILTO:janet.reynolds@cisvusa.org
END:VEVENT
BEGIN:VEVENT
DTSTART;TZID=America/New_York:20240517T200000
DTEND;TZID=America/New_York:20240517T213000
DTSTAMP:20260422T222512
CREATED:20240215T171359Z
LAST-MODIFIED:20240405T200732Z
UID:10000031-1715976000-1715981400@cisvusa.org
SUMMARY:Seminar Camp Virtual Training
DESCRIPTION:Virtual Seminar Camp training sessions will be held on two dates. Choose either April 26 and May 17\, 8pm – 9:30 pm\, Eastern Time.  Registration is required. \nRegister for one of them here. \nYou will be sent the Zoom link in the Registration Confirmation email.
URL:https://cisvusa.org/event/seminar-camp-virtual-training/2024-05-17/
ATTACH;FMTTYPE=image/jpeg:https://cisvusa.org/wp-content/uploads/2023/02/Seminar-Camp-Twisting-Game-Sweden-2002-Photo-by-Jesper-Karlqvist-CISV.jpg
END:VEVENT
BEGIN:VEVENT
DTSTART;TZID=America/New_York:20241025T110000
DTEND;TZID=America/New_York:20241027T120000
DTSTAMP:20260422T222512
CREATED:20240725T194102Z
LAST-MODIFIED:20240725T194102Z
UID:10000034-1729854000-1730030400@cisvusa.org
SUMMARY:CISV Connect
DESCRIPTION:Join us for an energizing and educational mini camp experience for adult and JB CISV USA members. There will be camp experience activities (think lullabies and flag time) and interactive educational sessions. \nFor details\, contact your local chapter.  For youth\, chaperones must be coordinated through your chapter. \nTo register\, click here.
URL:https://cisvusa.org/event/cisv-connect/
LOCATION:Nashville\, TN\, Nashville\, TN
ATTACH;FMTTYPE=image/jpeg:https://cisvusa.org/wp-content/uploads/2024/07/CISVConnect.jpg
END:VEVENT
END:VCALENDAR