BEGIN:VCALENDAR
VERSION:2.0
PRODID:-//CISV USA - ECPv6.15.20//NONSGML v1.0//EN
CALSCALE:GREGORIAN
METHOD:PUBLISH
X-WR-CALNAME:CISV USA
X-ORIGINAL-URL:https://cisvusa.org
X-WR-CALDESC:Events for CISV USA
REFRESH-INTERVAL;VALUE=DURATION:PT1H
X-Robots-Tag:noindex
X-PUBLISHED-TTL:PT1H
BEGIN:VTIMEZONE
TZID:America/New_York
BEGIN:DAYLIGHT
TZOFFSETFROM:-0500
TZOFFSETTO:-0400
TZNAME:EDT
DTSTART:20200308T070000
END:DAYLIGHT
BEGIN:STANDARD
TZOFFSETFROM:-0400
TZOFFSETTO:-0500
TZNAME:EST
DTSTART:20201101T060000
END:STANDARD
BEGIN:DAYLIGHT
TZOFFSETFROM:-0500
TZOFFSETTO:-0400
TZNAME:EDT
DTSTART:20210314T070000
END:DAYLIGHT
BEGIN:STANDARD
TZOFFSETFROM:-0400
TZOFFSETTO:-0500
TZNAME:EST
DTSTART:20211107T060000
END:STANDARD
BEGIN:DAYLIGHT
TZOFFSETFROM:-0500
TZOFFSETTO:-0400
TZNAME:EDT
DTSTART:20220313T070000
END:DAYLIGHT
BEGIN:STANDARD
TZOFFSETFROM:-0400
TZOFFSETTO:-0500
TZNAME:EST
DTSTART:20221106T060000
END:STANDARD
END:VTIMEZONE
BEGIN:VEVENT
DTSTART;TZID=America/New_York:20211016T130000
DTEND;TZID=America/New_York:20211016T173000
DTSTAMP:20260419T235604
CREATED:20210920T204513Z
LAST-MODIFIED:20210920T204810Z
UID:10000004-1634389200-1634405400@cisvusa.org
SUMMARY:Virtual CISV in Motion
DESCRIPTION:Join us for CISV in Motion\, the annual conference for all chapters\, from the comfort of your own home.   Hopefully next year we will be able to see each other in person and hugs will abound.  To promote a safe environment\, we must go the virtual route this year. \nWe will have board elections\, board and DEIA presentations.  It’s mandatory for every chapter to have at least one representative and more are welcome!  We can handle hundreds of participants.
URL:https://cisvusa.org/event/virtual-cisv-in-motion/
ATTACH;FMTTYPE=image/jpeg:https://cisvusa.org/wp-content/uploads/2020/01/piano4color-scaled.jpg
ORGANIZER;CN="Laura Ripberger":MAILTO:executivedirector@cisvusa.org
END:VEVENT
END:VCALENDAR