BEGIN:VCALENDAR
VERSION:2.0
PRODID:-//CISV USA - ECPv6.15.20//NONSGML v1.0//EN
CALSCALE:GREGORIAN
METHOD:PUBLISH
X-WR-CALNAME:CISV USA
X-ORIGINAL-URL:https://cisvusa.org
X-WR-CALDESC:Events for CISV USA
REFRESH-INTERVAL;VALUE=DURATION:PT1H
X-Robots-Tag:noindex
X-PUBLISHED-TTL:PT1H
BEGIN:VTIMEZONE
TZID:America/New_York
BEGIN:DAYLIGHT
TZOFFSETFROM:-0500
TZOFFSETTO:-0400
TZNAME:EDT
DTSTART:20240310T070000
END:DAYLIGHT
BEGIN:STANDARD
TZOFFSETFROM:-0400
TZOFFSETTO:-0500
TZNAME:EST
DTSTART:20241103T060000
END:STANDARD
BEGIN:DAYLIGHT
TZOFFSETFROM:-0500
TZOFFSETTO:-0400
TZNAME:EDT
DTSTART:20250309T070000
END:DAYLIGHT
BEGIN:STANDARD
TZOFFSETFROM:-0400
TZOFFSETTO:-0500
TZNAME:EST
DTSTART:20251102T060000
END:STANDARD
BEGIN:DAYLIGHT
TZOFFSETFROM:-0500
TZOFFSETTO:-0400
TZNAME:EDT
DTSTART:20260308T070000
END:DAYLIGHT
BEGIN:STANDARD
TZOFFSETFROM:-0400
TZOFFSETTO:-0500
TZNAME:EST
DTSTART:20261101T060000
END:STANDARD
END:VTIMEZONE
BEGIN:VEVENT
DTSTART;TZID=America/New_York:20250617T200000
DTEND;TZID=America/New_York:20250617T214500
DTSTAMP:20260425T193706
CREATED:20250526T180731Z
LAST-MODIFIED:20250527T125641Z
UID:10000071-1750190400-1750196700@cisvusa.org
SUMMARY:Phase 1 Training Weeknight #4 (Sunday Afternoon Make-up)
DESCRIPTION:A Weeknight Series has been added for late training and for make-up sessions.   \nThis Training Registration is for Weeknight 4 (Sunday Afternoon Make-up). \nThis virtual training is required for all program directors\, staff and junior staff\, program leaders\, and junior counselors.  This training is an essential part of preparing you for your leadership roles and is a  prerequisite for National Leader Training. \n\nWeeknight 1 (Saturday Morning Make-up) – Monday\, June 9\, 8 pm\nWeeknight 2 (Saturday Afternoon Make-up)  – Tuesday\, June 10\, 8 pm\nWeeknight 3 (Sunday Morning Make-up) – Monday\, June 16\, 8 pm\nWeeknight 4 (Sunday Afternoon Make-up) – Tuesday\, June 17\, 8 pm\n\nIf you have not received any Phase 1 Training\, register for ALL 4 sessions.  If you are making up a session\, just register for the session(s) you need to make up. After registration\, you will receive a confirmation email with detailed information about how to connect to the meeting. (Check your Junk folder if you don’t get it!) \n 
URL:https://cisvusa.org/event/phase-1-training-weeknight-4/
ATTACH;FMTTYPE=image/jpeg:https://cisvusa.org/wp-content/uploads/2022/10/CincinnatiStepUpAdults_2023-scaled.jpg
ORGANIZER;CN="Gabby DeMarchi":MAILTO:demarchig138@gmail.com
END:VEVENT
END:VCALENDAR